BEGIN:VCALENDAR
VERSION:2.0
X-WR-CALNAME:www.indybay.org
PRODID:-//indybay/ical// v1.0//EN
BEGIN:VEVENT
UID:Indybay-18745543
SEQUENCE:18853435
CREATED:20131028T175700Z
DESCRIPTION:Free Radical Radio is a local show broadcast out of west oakland discussing 
 the police state, activism, social justice projects, and other news that is 
 relevant.  We have weekly interviews with activists working to end the 
 oppressive state and create a community free of domestication and 
 domination.  Tune in!\n 
 https://www.indybay.org/newsitems/2013/10/28/18745543.php
SUMMARY:Free Radical Radio with Rydra and Bellamy
LOCATION:Free Radical Radio broadcasts out of west oakland on 
 berkeleyliberationradio.net but also can be found archived for listening at 
 freeradicalradio.tumblr.com
URL:https://www.indybay.org/newsitems/2013/10/28/18745543.php
DTSTART:20131030T010000Z
DTEND:20131030T030000Z
END:VEVENT
END:VCALENDAR
