BEGIN:VCALENDAR
VERSION:2.0
X-WR-CALNAME:www.indybay.org
PRODID:-//indybay/ical// v1.0//EN
BEGIN:VEVENT
UID:Indybay-18745344
SEQUENCE:18852846
CREATED:20131024T184400Z
DESCRIPTION:\n\n\n\n\nMichelle Alexander explains how the get-tough-on-crime policies 
 were enacted in the 1970's were an effort to push back the gains of the 
 Civil Rights Movement. \n\nFrom Publishers Weekly\n"Contrary to the rosy 
 picture of race embodied in Barack Obama's political success and Oprah 
 Winfrey's financial success, legal scholar Alexander argues vigorously and 
 persuasively that we have not ended racial caste in America; we have merely 
 redesigned it. Jim Crow and legal racial segregation has been replaced by 
 mass incarceration as a system of social control (More African Americans 
 are under correctional control today... than were enslaved in 1850). 
 Alexander reviews American racial history from the colonies to the Clinton 
 administration, delineating its transformation into the war on drugs. She 
 offers an acute analysis of the effect of this mass incarceration upon 
 former inmates who will be discriminated against, legally, for the rest of 
 their lives, denied employment, housing, education, and public benefits. 
 Most provocatively, she reveals how both the move toward colorblindness and 
 affirmative action may blur our vision of injustice: most Americans know 
 and don't know the truth about mass incarceration—but her carefully 
 researched, deeply engaging, and thoroughly readable book should change 
 that." Copyright © Reed Business Information, a division of Reed Elsevier 
 Inc. All rights reserved. \n\nMichelle Alexander is an associate professor 
 of law at Ohio State University.   \nSource: BookTV: The New Jim Crow: Mass 
 Incarceration in the Age of Colorblindness\n\n\n\n\nNext week Tom Friedman 
 lays out why a carbon tax could save America.\nDownload or Play Alexander 
 Part 1Download or Play Alexander Part 2Download or Play Alexander Part 
 3Download or Play Alexander Part 4\n\nMusic includes The Producers - 
 Springtime for Hitler, Roy Zimmerman - Socialist!, In The Dark, Joan Baez - 
 One Tin Soldier, Buffalo Springfield - For What It's Worth, Crosby Stills 
 Nash & Young - Ohio, John Kennedy - Civil Rights, The Beatles - Piggies, 
 Phil Ochs - There But for Fortune, Its A Beautiful Day - White Bird, 
 Stephen Longfellow Fiske - Earth Anthem, Peter, Putumayo Presents - Jamaica 
 Midnight in Ethiopia\n\nBroadcast at Access Sacramento, Sundays 6-8pm PDT 
 at http://www.live365.com/stations/accesssacramento?site=pro\n\n 
 https://www.indybay.org/newsitems/2013/10/24/18745344.php
SUMMARY:The Prison Industrial Complex
LOCATION:Stream or download at http://greatspeechesandinterviews.blogspot.com/ 
 \n\nBroadcast at Access Sacramento, Sundays 6-8pm PDT at 
 http://www.live365.com/stations/accesssacramento?site=pro\n
URL:https://www.indybay.org/newsitems/2013/10/24/18745344.php
DTSTART:20131028T010000Z
DTEND:20131028T030000Z
END:VEVENT
END:VCALENDAR
