BEGIN:VCALENDAR
VERSION:2.0
X-WR-CALNAME:www.indybay.org
PRODID:-//indybay/ical// v1.0//EN
BEGIN:VEVENT
UID:Indybay-18745343
SEQUENCE:18852845
CREATED:20131024T180200Z
DESCRIPTION:Free yoga class offered by certified yoga teacher at the LGBT Center.  
 Bring a mat.\n https://www.indybay.org/newsitems/2013/10/24/18745343.php
SUMMARY:Free Yoga Class
LOCATION:LGBT Center\n1800 Market Street room Q13\nnear Octavia\nSan Francisco
URL:https://www.indybay.org/newsitems/2013/10/24/18745343.php
DTSTART:20131029T020000Z
DTEND:20131029T040000Z
END:VEVENT
END:VCALENDAR
