BEGIN:VCALENDAR
VERSION:2.0
X-WR-CALNAME:www.indybay.org
PRODID:-//indybay/ical// v1.0//EN
BEGIN:VEVENT
UID:Indybay-18745022
SEQUENCE:18852406
CREATED:20131018T051400Z
DESCRIPTION:Bart workers are going on strike tomorrow and as we know an injury to one 
 is an injury to all. They are trying to make an example and divide the 
 working class but we have the potential right now for a GENERAL STRIKE!   
 THE IBEW AND THE ILWU PASSED SOLIDARITY RESOLUTIONS ASA WELL AS OCCUPY 
 OAKLAND!\n\nhttp://occupyoakland.org/2013/10/proposal-to-endorse-bart-solidarity-rally-and-if-it-comes-to-be-a-bart-strike/\n\n\nTHIS 
 EVENT IS A SOLIDARITY PICKET AT WEST OAKLAND BART  - 4PM POTLUCK AND MUTUAL 
 AID FREE STORE AND ASSEMBLY. At the assembly we will form committees to 
 coordinate food - clothing - shelter- conflict mediation - education/skill 
 share - medical - media - action.\n\nBring anything you can give away or 
 trade!  \n\nFREE STORE , SKILL SHARING, AND CAFE AT WEST OAKLAND BART EVERY 
 DAY OF THE STRIKE!\n\nWe know that their is a master plan to divide the 
 working class because people can't get to work. IF A SINGLE WORKER IS FIRED 
 WE WILL PICKET TO DEFEND THEM! \n\nWe must unite in solidarity with one 
 another. Drop all internal conflicts and be accountable to each other. An 
 anti-oppression policy. We must support each other in our daily struggles. 
 With our skills and privileges shared we can provide all our needs!\n 
 \nTHIS IS NOT AN OFFICIAL IWW 
 EVENT.\n\nhttps://www.facebook.com/events/207042656142829/\n\nPlease invite 
 your friends, copy and paste the text and bring whatever you can to give 
 away or trade! (food, clothing, etc.)\n\nBart workers are going on strike 
 tomorrow and as we know an injury to one is an injury to all. They are 
 trying to make an example and divide the working class but we have the 
 potential right now for a GENERAL STRIKE!   THE IBEW AND THE ILWU PASSED 
 SOLIDARITY RESOLUTIONS ASA WELL AS OCCUPY 
 OAKLAND!\n\nhttp://occupyoakland.org/2013/10/proposal-to-endorse-bart-solidarity-rally-and-if-it-comes-to-be-a-bart-strike/\n\n\nTHIS 
 EVENT IS A SOLIDARITY PICKET AT WEST OAKLAND BART  - 4PM POTLUCK AND MUTUAL 
 AID FREE STORE AND ASSEMBLY. At the assembly we will form committees to 
 coordinate food - clothing - shelter- conflict mediation - education/skill 
 share - medical - media - action.\n\nBring anything you can give away or 
 trade!  \n\nFREE STORE , SKILL SHARING, AND CAFE AT WEST OAKLAND BART EVERY 
 DAY OF THE STRIKE!\n\nWe know that their is a master plan to divide the 
 working class because people can't get to work. IF A SINGLE WORKER IS FIRED 
 WE WILL PICKET TO DEFEND THEM! \n\nWe must unite in solidarity with one 
 another. Drop all internal conflicts and be accountable to each other. An 
 anti-oppression policy. We must support each other in our daily struggles. 
 With our skills and privileges shared we can provide all our needs!\n 
 \nTHIS IS NOT AN OFFICIAL IWW 
 EVENT.\n\nhttps://www.facebook.com/events/207042656142829/\n\nPlease invite 
 your friends, copy and paste the text and bring whatever you can to give 
 away or trade! (food, clothing, etc.)\n 
 https://www.indybay.org/newsitems/2013/10/17/18745022.php
SUMMARY:Sollidarity Rally for BART workers Strike! FREE STORE, SKILL SHARING, ASSEMBLY AND CAFE
LOCATION:West Oakland BART, 7th and Center
URL:https://www.indybay.org/newsitems/2013/10/17/18745022.php
DTSTART:20131018T230000Z
DTEND:20131019T020000Z
END:VEVENT
END:VCALENDAR
