BEGIN:VCALENDAR
VERSION:2.0
X-WR-CALNAME:www.indybay.org
PRODID:-//indybay/ical// v1.0//EN
BEGIN:VEVENT
UID:Indybay-18744670
SEQUENCE:18851929
CREATED:20131010T204700Z
DESCRIPTION:Earth Island Institute & Sacred Land Film Project invite you to attend the 
 premiere of the new 4-part film series, Standing on Sacred Ground, 
 profiling indigenous communities & their sacred sites around the 
 world.\n\nThere will be a Q&A after each Film with Standing on Sacred 
 Ground director, Toby McLeod & our very special honored guests: Caleen 
 Audrey Sisk chief of the Winnemem Wintu Tribe, Danil Mamyev, founder of Uch 
 Enmek Nature Park in the Altai Republic, Onondaga Chief Oren Lyons, 
 Hawai'ian Natives Emmet Aluili & Davianna McGregor, Actresses Tantoo 
 Cardinal,\n& Qorianka Kilcher, & Author Barry Lopez.\n\n 
 https://www.indybay.org/newsitems/2013/10/10/18744670.php
SUMMARY:Standing on Sacred Ground Premiere Screenings & Event
LOCATION:The David Brower Center\n2150 Alllston Way\nBerkeley, CA \nBetween Shattuck 
 and Oxford
URL:https://www.indybay.org/newsitems/2013/10/10/18744670.php
DTSTART:20131015T190000Z
DTEND:20131016T050000Z
END:VEVENT
END:VCALENDAR
