BEGIN:VCALENDAR
VERSION:2.0
X-WR-CALNAME:www.indybay.org
PRODID:-//indybay/ical// v1.0//EN
BEGIN:VEVENT
UID:Indybay-18744018
SEQUENCE:18851008
CREATED:20130929T193600Z
DESCRIPTION:Write letters and postcards to your own penpals and/or prisoners who've 
 written letters to Slingshot newspaper. Long Haul will provide the first 10 
 stamps and envelopes each week FREE. We'll also provide paper, pens and 
 typewriters. \n\nGet analog and cozy with a nice letter written on paper.  
 The second Sunday of each month is Penpal night! \n\n 
 https://www.indybay.org/newsitems/2013/09/29/18744018.php
SUMMARY:Penpal Night
LOCATION:Long Haul infoshop - 3124 Shattuck Ave. Berkeley 510-540-0751 - 2 blocks 
 from Ashby BART
URL:https://www.indybay.org/newsitems/2013/09/29/18744018.php
DTSTART:20131014T010000Z
DTEND:20131014T040000Z
END:VEVENT
END:VCALENDAR
