BEGIN:VCALENDAR
VERSION:2.0
X-WR-CALNAME:www.indybay.org
PRODID:-//indybay/ical// v1.0//EN
BEGIN:VEVENT
UID:Indybay-18743579
SEQUENCE:18850391
CREATED:20130921T193800Z
DESCRIPTION:The Day in Solidarity with African People salutes the African-led movement 
 for self-determination to end the police violence, mass imprisonment, 
 poverty and unemployment faced by African people everywhere in a system 
 built on slavery and genocide.\nUniting African people on four continents, 
 the Uhuru Movement builds self-reliance programs including infant and 
 maternal wellness clinics, a fitness gym, community organizations and 
 African media.\nSpeakers include Cephus Johnson, the uncle Oscar Grant; the 
 Ghetto Prophet of the Onyx Organizing Committee; Umi Hagatani of the Japan 
 Resource Center. Featuring Omali Yeshitela, Chairman of the African 
 People’s Socialist Party, along with local activists and spoken word 
 artists. Sponsored by the Uhuru Solidarity Movement.\n510-542-9740; 
 Oakland@uhurusolidarity.org; www.uhurusolidarity.org\n\n 
 https://www.indybay.org/newsitems/2013/09/21/18743579.php
SUMMARY:Day in Solidarity with African People
LOCATION:Kehilla Community Synagogue, \n1300 Grand Ave., Oakland, CA 94610\n
URL:https://www.indybay.org/newsitems/2013/09/21/18743579.php
DTSTART:20131013T200000Z
DTEND:20131014T000000Z
END:VEVENT
END:VCALENDAR
