BEGIN:VCALENDAR
VERSION:2.0
X-WR-CALNAME:www.indybay.org
PRODID:-//indybay/ical// v1.0//EN
BEGIN:VEVENT
UID:Indybay-18743334
SEQUENCE:18850097
CREATED:20130916T192900Z
DESCRIPTION:Calling all movie buffs! Come join us at the 22nd Annual Sacramento 
 International Gay and Lesbian Film Festival happening from October 10-12.  
 Showings will be at the Crest Theater in Sacramento.  All Festival Passes 
 grant entry to the pre-show reception, where you can mingle with fellow 
 movie-goers, and enjoy some refreshments. \nNew this year will be a special 
 afternoon matinee, Saturday, October 12, 2013.  Early entry will be 
 extended to VIP Festival Pass holders as well as free admittance to the 
 public.  \nSIGLFF presents images of the diverse GLBT community by bringing 
 quality, contemporary GLBT film/video programming to the greater Sacramento 
 community through an annual film festival and other related activities.\n\n 
 https://www.indybay.org/newsitems/2013/09/16/18743334.php
SUMMARY:Sacramento International Gay and Lesbian Film Festival
LOCATION:Crest Theater 1013 K Street, Sacramento, CA 95814
URL:https://www.indybay.org/newsitems/2013/09/16/18743334.php
DTSTART:20131011T014500Z
DTEND:20131011T054500Z
END:VEVENT
END:VCALENDAR
