BEGIN:VCALENDAR
VERSION:2.0
X-WR-CALNAME:www.indybay.org
PRODID:-//indybay/ical// v1.0//EN
BEGIN:VEVENT
UID:Indybay-18741805
SEQUENCE:18847995
CREATED:20130820T044500Z
DESCRIPTION:Submit your articles, letters, cover art, or other material for possible 
 inclusion in Slingshot issue #114.\n\nSlingshot is an independent radical 
 newspaper published in Berkeley, CA since 1988 and distributed nationally. 
 \n\nFolks interested in editing articles or making art can email 
 slingshot@tao.ca for a schedule of meetings and work sessions to make the 
 issue, running from Sept. 14 - Sept. 30.\n 
 https://www.indybay.org/newsitems/2013/08/19/18741805.php
SUMMARY:Slingshot issue #114 article deadline
LOCATION:Long Haul infoshop - 3124 Shattuck Ave. Berkeley 510-540-0751
URL:https://www.indybay.org/newsitems/2013/08/19/18741805.php
DTSTART:20130914T220000Z
DTEND:20130914T221500Z
END:VEVENT
END:VCALENDAR
