BEGIN:VCALENDAR
VERSION:2.0
X-WR-CALNAME:www.indybay.org
PRODID:-//indybay/ical// v1.0//EN
BEGIN:VEVENT
UID:Indybay-18740714
SEQUENCE:18846488
CREATED:20130731T160400Z
DESCRIPTION:BENEFIT SHOW FOR MARISSA ALEXANDER\n\nMARISSA IS CURRENTLY RECEIVING 20 
 YEARS IN FLORIDA FOR FIRING OFF A WARNING SHOT AGAINST HER ABUSIVE HUSBAND. 
 \n\nHELP US RAISE AWARENESS AND DONATIONS AND BRING MARISSA ALEXANDER 
 HOME..\n\n\n https://www.indybay.org/newsitems/2013/07/31/18740714.php
SUMMARY:Free Marissa Now
LOCATION:SUB-Mission SF \n2183 Mission St \nSan Francisco CA 94110\n6-11PM
URL:https://www.indybay.org/newsitems/2013/07/31/18740714.php
DTSTART:20130810T010000Z
DTEND:20130810T120000Z
END:VEVENT
END:VCALENDAR
