BEGIN:VCALENDAR
VERSION:2.0
X-WR-CALNAME:www.indybay.org
PRODID:-//indybay/ical// v1.0//EN
BEGIN:VEVENT
UID:Indybay-18740296
SEQUENCE:18845842
CREATED:20130724T034000Z
DESCRIPTION:Throughout the Bay Area from BART to the SF Airport, from the Oakland Port 
 to Walmart, there has been an increase in labor organizing and actions. 
 Join union and community members for a discussion about the challenges and 
 opportunities for workers to organize and fight back in an age of 
 austerity. Speakers include Larry Bradshaw, third vice president of SEIU 
 1021*; Brooke Anderson, organizer on labor & climate for 350.org* and Mike 
 Estrada, AFT 2121 executive board member at City College of San Francisco*  
  (*for identification purposes only).\n\nSponsored by the International 
 Socialist Organization \nThe Oakland branch of the ISO meets on Wednesdays 
 at 6:30 in the Oakland Peace Center\nDaily left-wing news and analysis: 
 Socialistworker.org \nFor more info: Norcalsocialism.org \nEmail: 
 Laney@norcalsocialism.org\n 
 https://www.indybay.org/newsitems/2013/07/23/18740296.php
SUMMARY:Panel discussion: Labor struggles in the Bay Area
LOCATION:First Christian Church\n111 Fairmount Ave\nOakland, CA
URL:https://www.indybay.org/newsitems/2013/07/23/18740296.php
DTSTART:20130728T020000Z
DTEND:20130728T040000Z
END:VEVENT
END:VCALENDAR
