BEGIN:VCALENDAR
VERSION:2.0
X-WR-CALNAME:www.indybay.org
PRODID:-//indybay/ical// v1.0//EN
BEGIN:VEVENT
UID:Indybay-18740101
SEQUENCE:18845561
CREATED:20130720T101200Z
DESCRIPTION:Justice for Trayvon Martin: National Call Out to Demonstrate at Federal 
 Buildings\n\nPart of the national day of action that has been called at 
 federal buildings across the country to demonstrate for federal civil 
 rights charges to be filed against Trayon's murderer, George Zimmerman.  
 \n\nBe safe!  One organizer has already been told by OPD that it was going 
 to be considered an unlawful assembly. \n 
 https://www.indybay.org/newsitems/2013/07/20/18740101.php
SUMMARY:Nat'l Call Out for Federal Bldg Demos: Oakland
LOCATION:Federal building in Oakland\n1301 Clay Street 
URL:https://www.indybay.org/newsitems/2013/07/20/18740101.php
DTSTART:20130720T190000Z
DTEND:20130720T230000Z
END:VEVENT
END:VCALENDAR
