BEGIN:VCALENDAR
VERSION:2.0
X-WR-CALNAME:www.indybay.org
PRODID:-//indybay/ical// v1.0//EN
BEGIN:VEVENT
UID:Indybay-18740031
SEQUENCE:18845432
CREATED:20130718T185500Z
DESCRIPTION:\n\n\nIn 1967, King was an important opponent of the Vietnam War, and a 
 staunch critic of overall U.S. foreign policy. In his "Beyond Vietnam" 
 speech delivered at New York's Riverside Church on April 4, 1967,  King 
 called the United States "the greatest purveyor of violence in the world 
 today."\n  At YouTube at MLK: Beyond Vietnam -- A Time to Break Silence 
 (Full)\n\nSource: Media/History/Other/King, Martin Luther: A Time To Break 
 Silence\n\n\n\n\nNobel laureate Leymah Gbowee talks to Tavis Smiley\nLeymah 
 Gbowee talks about the challenges faced by women in politics.\n\nAfter 
 watching her native Liberia descend into a lengthy civil war, Leymah Gbowee 
 decided to take a stand. A social worker by profession, she mobilized a 
 coalition of Christian and Muslim women that eventually paving the way for 
 Africa's first democratic election of a female head of state. She's the 
 co-founder and executive director of the Ghana-based Women Peace and 
 Security Network-Africa and Newsweek Daily Beast's Africa columnist. 
 \nSource: Tavis Smiley: Nobel laureate Leymah Gbowee\n\n\nDownload or Play 
 King Part 1Download or Play King Part 2Download or Play King Part 3 & 
 GboweeDownload or Play Gbowee Part 2\n\n\nMusic includes Michael Franti & 
 Spearhead - Bomb the World, Jack Johnson Feat & Ben Harper - With My Own 
 Two Hands, The Beatles - While My Guitar Gently Weeps, Craymo - One Love 
 One World, John Kennedy, Gandhi - The Philosophy of Nonviolence, Clinton 
 Fearon - Streets of Freedom, Frank Sinatra - Mack the Knife, Linda Tillery 
 & the Cultural Heritage Choir - Jaime Moreno's Jam, Terry Gangstad - 
 Federali Express, Jimi Hendrix - Star Spangled Banner, Cat Stevens - 
 Moonshadow, The Matrix(Movie), Kenny Rogers - Ruby Don't Take Your Love To 
 Town, The Kingston Trio - M.T.A., Herb Alpert - Bittersweet Samba\nGreat 
 Speeches and Interviews' Past Programs\n\n 
 https://www.indybay.org/newsitems/2013/07/18/18740031.php
SUMMARY:A Time to Break Silence By Rev. Martin Luther King
LOCATION:Stream or download at http://greatspeechesandinterviews.blogspot.com/ 
 \n\nBroadcast at Access Sacramento at 
 http://www.live365.com/cgi-bin/mini.cgi?station_name=accesssacramento&site=pro&tm=6524\n
URL:https://www.indybay.org/newsitems/2013/07/18/18740031.php
DTSTART:20130722T010000Z
DTEND:20130722T030000Z
END:VEVENT
END:VCALENDAR
