BEGIN:VCALENDAR
VERSION:2.0
X-WR-CALNAME:www.indybay.org
PRODID:-//indybay/ical// v1.0//EN
BEGIN:VEVENT
UID:Indybay-18740011
SEQUENCE:18845403
CREATED:20130718T150200Z
DESCRIPTION:Tribute to Larry Itliong 1913-1977\n2013 will mark the 100th birthday of 
 our Filipino American hero.\n Preview of the latest trailer for Film Maker 
 Producer Marissa Arroy's upcoming film, The Delano Manongs. \n Special 
 guest; Sid Valledor, special assistant to Larry Itliong while living with 
 Philip Vera Cruz. He is the author of Americans with a Philippine Heritage: 
 The Original Writings of Philip Vera Cruz. For more info:415-399-9580 \nSee 
 also:\nhttp://www.imdb.com/name/nm2448417/bio (Marissa 
 Aroy)\nhttp://www.imdb.com/name/nm2448417/ (Aroy 
 films)\nhttp://en.wikipedia.org/wiki/Philip_Vera_Cruz 
 (1904-1994)\nhttp://www.laborfest.net/2013/2013schedule.htm\n 
 https://www.indybay.org/newsitems/2013/07/18/18740011.php
SUMMARY:Laborfest: Tribute to Larry Itliong 1913-1977
LOCATION:I-Hotel Manilatown Center  -  868 Kearny, San Francisco. Buses:  1, 8X, 10, 
 12, 30, 41, 45 \n
URL:https://www.indybay.org/newsitems/2013/07/18/18740011.php
DTSTART:20130721T210000Z
DTEND:20130721T230000Z
END:VEVENT
END:VCALENDAR
