BEGIN:VCALENDAR
VERSION:2.0
X-WR-CALNAME:www.indybay.org
PRODID:-//indybay/ical// v1.0//EN
BEGIN:VEVENT
UID:Indybay-18739935
SEQUENCE:18845305
CREATED:20130717T055300Z
DESCRIPTION:A benefit to support Interfaith Peace Builders delegations to the 
 Israel/Palestine region & the Scott Kennedy Scholarship Fund. \n\nThe band 
 AZA will play at 7 PM there will be wine, hor d'oeuvres, and refreshments. 
 The cost is $10 - $25, sliding scale. \n\nThis event is co-sponsored by the 
 Palestine-Israel Action Committee, the Resource Center for Nonviolence, and 
 the Women's International League for Peace and Freedom. \n 
 https://www.indybay.org/newsitems/2013/07/16/18739935.php
SUMMARY:Benefit to Support Interfaith Peace Builders & the Scott Kennedy Scholarship Fund
LOCATION:612 Ocean Street\nSanta Cruz, CA\n\n95060
URL:https://www.indybay.org/newsitems/2013/07/16/18739935.php
DTSTART:20130805T020000Z
DTEND:20130805T050000Z
END:VEVENT
END:VCALENDAR
