BEGIN:VCALENDAR
VERSION:2.0
X-WR-CALNAME:www.indybay.org
PRODID:-//indybay/ical// v1.0//EN
BEGIN:VEVENT
UID:Indybay-18739808
SEQUENCE:18845145
CREATED:20130715T020000Z
DESCRIPTION:About the book: \n\nCounterinsurgency has existed as the state's implicit 
 strategy for a generation, and increasingly this strategy is becoming 
 explicit. In this chilling collection of sociological and political essays, 
 fifteen writers examine the application of domestic counterinsurgency 
 tactics within the United States, and seek to equip the left with a more 
 nuanced understanding of state repression - and how to fight back. \n\nMore 
 info: http://www.akpress.org/life-during-wartime.html\n\nSpeakers Bios:  
 \n\nKristian Williams is a member of the Committee Against Political 
 Repression, in Portland, Oregon. He is also the author of Our Enemies in 
 Blue: Police and Power in America (Soft Skull, 2004; South End, 2007), 
 American Methods: Torture and the Logic of Domination (South End, 2006), 
 and Hurt: Notes on Torture in a Modern Democracy (Microcosm, 2012). In 2009 
 he received a grant from the Institute for Anarchist Studies to support his 
 research on Oscar Wilde’s anarchism.\n\nKevin Van Meter is a member of 
 the Team Colors Collective and has just relocated to Minneapolis, 
 Minnesota, to complete his doctorate in Geography.  Van Meter, with Team 
 Colors, co-edited the collection Uses of a Whirlwind (AK Press, 2010) and 
 co-authored Winds from below (Team Colors / Eberhardt Press, 2010). Van 
 Meters’ collaborative and single-authored work has appeared in various 
 radical publications.\n\nJenny Esquivel and Evan Tucker are contributors to 
 Life During Wartime and live in Sacramento.  They are involved in 
 Sacramento Prisoner Support, a group that does support work for Political 
 Prisoners in the US.  In 2011 they co-authored a book entitled, 
 “Government Repression, Prisoner Support.”  \n\n 
 https://www.indybay.org/newsitems/2013/07/14/18739808.php
SUMMARY:Book Release and Talk for "Life During Wartime: Resisting Counterinsurgency"
LOCATION:The Lavender Library\n1414 21st St., Sacto
URL:https://www.indybay.org/newsitems/2013/07/14/18739808.php
DTSTART:20130810T023000Z
DTEND:20130810T043000Z
END:VEVENT
END:VCALENDAR
