BEGIN:VCALENDAR
VERSION:2.0
X-WR-CALNAME:www.indybay.org
PRODID:-//indybay/ical// v1.0//EN
BEGIN:VEVENT
UID:Indybay-18739723
SEQUENCE:18844996
CREATED:20130712T230000Z
DESCRIPTION:Learn your rights when encountering police and how to document police 
 activity and stay safe. \n 
 https://www.indybay.org/newsitems/2013/07/12/18739723.php
SUMMARY:Know Your Rights Training
LOCATION:2022 Blake Street, Berkeley (between Ashby and downtown Berkeley BART 
 stops)
URL:https://www.indybay.org/newsitems/2013/07/12/18739723.php
DTSTART:20130719T020000Z
DTEND:20130719T040000Z
END:VEVENT
END:VCALENDAR
