BEGIN:VCALENDAR
VERSION:2.0
X-WR-CALNAME:www.indybay.org
PRODID:-//indybay/ical// v1.0//EN
BEGIN:VEVENT
UID:Indybay-18739678
SEQUENCE:18844927
CREATED:20130711T231400Z
DESCRIPTION:On Saturday July 13 the Home Defenders League Chapter of ACCE will be 
 launching a statewide outreach campaign to continue our fight for 
 struggling homeowners against the banks and to keep them in their homes.  
 The banks continue to violate both the Homeowners’ Bill of Rights and 
 multi-state Attorney General Settlement. It is time to hold the banks 
 accountable and fight back against the continued illegal, greedy and 
 corrupt bank practices that have devastated our communituies!    \nYou may 
 have been a victim of practices made illegal by the recently passed 
 Homeowner Bill of Rights. You also may be eligible for thousands of dollars 
 in relief for struggling homeowners!\nSeveral statewide programs have been 
 set up to provide relief to homeowners that need it! ACCE Home Defenders 
 League can connect you to these FREE programs and help you FIGHT to stay in 
 your home!\n \nIt’s time to fight back against the Banks and save our 
 neighborhoods. Come join others in your neighborhood to discuss how you can 
 fight to save your home and save our neighborhoods!\n\n 
 https://www.indybay.org/newsitems/2013/07/11/18739678.php
SUMMARY:Outraged by On-Going Bank Violations, Statewide Community Group ACCE Launches Mass Outreac
LOCATION:2501 International Blvd, Suite D\nOakland, CA 94601\n510-269-4692
URL:https://www.indybay.org/newsitems/2013/07/11/18739678.php
DTSTART:20130713T170000Z
DTEND:20130713T210000Z
END:VEVENT
END:VCALENDAR
