BEGIN:VCALENDAR
VERSION:2.0
X-WR-CALNAME:www.indybay.org
PRODID:-//indybay/ical// v1.0//EN
BEGIN:VEVENT
UID:Indybay-18739452
SEQUENCE:18844549
CREATED:20130706T195800Z
DESCRIPTION:Merced Bicycle Coalition Saturday Family Fun Ride\n\nEvery 1st and 3rd 
 Saturday of the month, we meet at the corner of N and 19th (farmer's 
 market) for a family friendly public group ride at 10am! We primarily 
 travel the bike paths throughout Merced. or head out towards Yosemite Lake 
 to enjoy the vista’s . Alternate routes may be decided on! Riders of all 
 skill levels and ages are invited and have regularly participated.After the 
 ride we get together for lunch at a local restaurant , where riders get a 
 10% discount off their meal.Rides generally last about 1 1/2 - 2 
 hours.\n\nhttp://www.mercedbicyclecoalition.org/mbc-event-calendar/\n\n 
 https://www.indybay.org/newsitems/2013/07/06/18739452.php
SUMMARY:Merced Bicycle Coalition Saturday Family Fun Ride
LOCATION:corner of N and 19th (farmer's market) 
URL:https://www.indybay.org/newsitems/2013/07/06/18739452.php
DTSTART:20130720T170000Z
DTEND:20130720T190000Z
END:VEVENT
END:VCALENDAR
