BEGIN:VCALENDAR
VERSION:2.0
X-WR-CALNAME:www.indybay.org
PRODID:-//indybay/ical// v1.0//EN
BEGIN:VEVENT
UID:Indybay-18739272
SEQUENCE:18844305
CREATED:20130703T181300Z
DESCRIPTION:Afro-Peruvian Rhythms:  A Night of Film and Performance\n\nSaturday July 13 
 / 7:00pm / $15 general and $ 12 students & seniors (bring ID) / 
 Theatre\n\n\nMission Cultural Center and Palomino Productions are proud to 
 present a screening of award-winning filmmaker Eve A. Ma’s hour-long 
 documentary, A Zest for Life:  Afro-Peruvian Rhythms, a Source of Latin 
 Jazz, paired with a live performance by Jaranon y Bochinche’s.  The 
 documentary, which stars world-renowned dancer, percussionist, 
 choreographer and folklorist Lalo Izquierdo, includes footage shot on 
 location in Peru, and interviews and performance recorded in the studio.  
 It presents the history and culture of Peruvians of African descent, a 
 community that has contributed colorful dances, exciting rhythms, and many 
 musical instruments to the world of music in general, and to Latin jazz in 
 particular.  Jaranon y Bochinche offer a wonderful compliment to the 
 documentary.  Along with their performance, they will offer a free lesson 
 in zapateo footwork to brave audience members.\n\nDocumentary Website: 
 www.azestforlifedvd.com \n 
 https://www.indybay.org/newsitems/2013/07/03/18739272.php
SUMMARY:Afro-Peruvian Rhythms: A Night of Film and Performance Saturday July 13@MCCLA
LOCATION: MCCLA 2868 Mission St, SF\n\nAfro-Peruvian Rhythms:  A Night of Film and 
 Performance\n\nSaturday July 13 / 7:00pm / $15 general and $ 12 students & 
 seniors (bring ID) / Theatre\n\nMission Cultural Center and Palomino 
 Productions are proud to present a screening of award-winning filmmaker Eve 
 A. Ma’s hour-long documentary, A Zest for Life:  Afro-Peruvian Rhythms, a 
 Source of Latin Jazz, paired with a live performance by Jaranon y 
 Bochinche’s.
URL:https://www.indybay.org/newsitems/2013/07/03/18739272.php
DTSTART:20130714T020000Z
DTEND:20130714T040000Z
END:VEVENT
END:VCALENDAR
