BEGIN:VCALENDAR
VERSION:2.0
X-WR-CALNAME:www.indybay.org
PRODID:-//indybay/ical// v1.0//EN
BEGIN:VEVENT
UID:Indybay-18739047
SEQUENCE:18844125
CREATED:20130628T183700Z
DESCRIPTION:\n https://www.indybay.org/newsitems/2013/06/28/18739047.php
SUMMARY:Oriented towards women
LOCATION:Art of Living Center\nAddress:	 495 Blossom Hill Rd(Off of Entrada Cedros) 
 San Jos\nSan Jose, CA 95123  Map
URL:https://www.indybay.org/newsitems/2013/06/28/18739047.php
DTSTART:20130713T093000Z
DTEND:20130713T110000Z
END:VEVENT
END:VCALENDAR
