BEGIN:VCALENDAR
VERSION:2.0
X-WR-CALNAME:www.indybay.org
PRODID:-//indybay/ical// v1.0//EN
BEGIN:VEVENT
UID:Indybay-18738669
SEQUENCE:18843391
CREATED:20130619T135200Z
DESCRIPTION:Irish Labor History Walk \nWith IBEW electrician Peter O’Driscoll and 
 labor writer and UAW NWU member Larry Shoup.\n This tour will focus on the 
 history of San Francisco’s famed waterfront and the role of its Irish and 
 Irish-American workers, leaders, and martyrs. It will also include the 
 cases of Tom Mooney and Warren Billings who faced a labor frame-up in the 
 Preparedness Day Bombing in San Francisco in July 1916, and the successful 
 struggle for their release. The tour will also view the sculpture dedicated 
 to the waterfront strikers of 1934 at Steuart and Mission, and other 
 historic markers along the way. The tour will end inside Rincon Center, 
 discussing the historic murals dedicated to the labor movement in San 
 Francisco.\n\nSee 
 also:\nhttp://rulersandrebels.com/about/\nhttp://www.spartacus.schoolnet.co.uk/USAmooney.htm 
 \nhttp://www.spartacus.schoolnet.co.uk/USAbillingsW.htm 
 \nhttp://www.artandarchitecture-sf.com/tag/howard-sperry\nhttp://www.sullivangoss.com/Anton_Refregier/ 
 \nhttp://www.sfmuralarts.com/artist/anton-refregier/238.html\nhttp://www.laborfest.net/2013/2013schedule.htm\n 
 https://www.indybay.org/newsitems/2013/06/19/18738669.php
SUMMARY:Laborfest: Irish Labor History Walk
LOCATION:Marine Firemen’s Hall - 240 2nd St. San Francisco. Montgomery St BART. \n
URL:https://www.indybay.org/newsitems/2013/06/19/18738669.php
DTSTART:20130721T190000Z
DTEND:20130721T210000Z
END:VEVENT
END:VCALENDAR
