BEGIN:VCALENDAR
VERSION:2.0
X-WR-CALNAME:www.indybay.org
PRODID:-//indybay/ical// v1.0//EN
BEGIN:VEVENT
UID:Indybay-18737943
SEQUENCE:18842394
CREATED:20130604T050800Z
DESCRIPTION:Public Forum and Discussion\n\nThe Affordable Care Act: What will change, 
 who will benefit?\nGuest speaker: Don Bechler, Chairperson, Single Payer 
 Now\n\nFriday, June 7, 7pm\n2969 Mission St., San Francisco\n\nThe 
 Affordable Health Care Act – called "Obamacare" by both the president and 
 his right-wing opponents – is about to go into effect. What will it mean 
 for tens of millions of people who have no or inadequate health care? For 
 the health care corporations?\n\nLow-wage workers organize\nAcross the 
 country, more and more people are being driven into low-wage jobs – when 
 they can find jobs at all. Now low-wage workers are organizing to win a 
 living wage.\n\nJoin the discussion that will follow informative 
 presentations.\n2969 Mission St., btwn 25th and 26th Sts. Near 24th St. 
 BART, #14, 49 MUNI\n \n$3 - $5 donation requested, no one turned away for 
 lack of funds.\nRefreshments served. Wheelchair accessible. \n \nFor more 
 info: 415-821-6171 or www.PSLweb.org.\n \nClick here to read daily news and 
 anaylsis from a Marxist perspective.\nClick here to subscribe to our 
 newspaper Liberation or purchase our other publications.\n\nEvento Público 
 • Todos Bienvenidos\n\nLa nueva ley de salud: ¿Qué cambiará, a quien 
 le beneficiará?\nOrador especial: Don Bechler, Dirigente, Salud Universal 
 Ya\n\nviernes, 7 de junio, 7pm\n2969 Calle Mission, San Francisco\n\nLa Ley 
 de Salud Asequible llamada "Obamacare" por el mismo presidente y sus 
 oponentes derechistas – esta apunto de ser implementado. ¿Qué 
 significará esto para los diez de millones de personas que no tienen o se 
 les es inadecuado el cuidado medico? ¿Y para las corporaciones de 
 salud?\n\nTrabajadores de poca paga se organizan\n\nAlrededor del pais, mas 
 y mas personas se les está forzando a trabajar en lugares de poca paga – 
 si es que encuentran un trabajo. Ahora los trabajadores de poca paga están 
 organizando para ganar un salario digno.\n\nÚnase a la discusión que 
 tendrá presentaciones informativas.\n\n2969 Calle Mission. Esquiná de la 
 calle 25 y 26, acerca de BART/24 St., MUNI #14, 49\nSugerimos una donación 
 de $3 a $5, todos bienvenidos, con o sin fondos.\n\nHabrá 
 antojitos.\n\nPara mayor información llame al PSL, en 415-821-6171 o 
 www.PSLweb.org.\n\nVisite nuestra página web: http://www.pslweb.org del 
 día y análisis desde un punto de vista Marxista.\n\nVaya aqui para leer 
 selecciones actuales y publicaciones anteriores y para aprender como 
 subscribirse\n https://www.indybay.org/newsitems/2013/06/03/18737943.php
SUMMARY:Foro/Forum: The Affordable Care Act: What will change, who will benefit?
LOCATION:2969 Mission St., btwn 25th and 26th Sts. Near 24th St. BART, #14, 49 
 MUNI\n \n$3 - $5 donation requested, no one turned away for lack of 
 funds.\nRefreshments served. Wheelchair accessible. \n \nFor more info: 
 415-821-6171 or www.PSLweb.org.\n\n2969 Calle Mission. Esquiná de la calle 
 25 y 26, acerca de BART/24 St., MUNI #14, 49\nSugerimos una donación de $3 
 a $5, todos bienvenidos, con o sin fondos.\n\nHabrá antojitos.\n\nPara 
 mayor información llame al PSL, en 415-821-6171 o www.PSLweb.org.\n
URL:https://www.indybay.org/newsitems/2013/06/03/18737943.php
DTSTART:20130608T020000Z
DTEND:20130608T040000Z
END:VEVENT
END:VCALENDAR
