BEGIN:VCALENDAR
VERSION:2.0
X-WR-CALNAME:www.indybay.org
PRODID:-//indybay/ical// v1.0//EN
BEGIN:VEVENT
UID:Indybay-18737490
SEQUENCE:18841782
CREATED:20130528T165500Z
DESCRIPTION:Free Angela and All Political Prisoners, a new film released in April will 
 make its premiere in downtown Santa Cruz at the Nickelodeon Theater on May 
 28th and 30th at 7:30 PM in support of the legacy of African American 
 leaders in America!Angela Davis is a retired professor from the University 
 of California Santa Cruz. She was accompanied in the movement by fellow 
 colleague, Dr. Bettina Aptheker, professor in the History of Consciousness 
 at UCSC. Bettina is mentioned significantly in the film (primarily to frame 
 the narrative) and will be present at both screenings for a Q&A after the 
 screening. She wrote a book about Angela's trial, The Morning Breaks: The 
 Trial of Angela Davis, and was part of the filmmaking process.Free Angela 
 is a documentary that chronicles the life of young college professor Angela 
 Davis, and how her social activism implicates her in a botched kidnapping 
 attempt that ends with a shootout, four dead, and her name on the FBI's 10 
 most wanted list. The high stakes crime, political movement, and trial that 
 catapults the 26 year-old newly appointed philosophy professor at the 
 University of California, Los Angeles into a 70's revolutionary political 
 icon. Nearly forty years later, and for the first time, Angela Davis speaks 
 frankly about the actions that branded her as a terrorist and 
 simultaneously spurred a worldwide political movement for her 
 freedom.\nPresented by UCSC's DANM undergraduate researchers led by 
 graduate student, Jonathan Menendez (DANM '14), and Qulture.org to launch 
 their fundraisier for the development a mobile application for activism, 
 community and diversity. Free Angela Movie Trailer             
 \nFree Angela Facebook Event             
 \n@FreeAngelaFilmAudience must reserve their tickets in advance to ensure 
 screening. Please feel free to contact Tania Ramos Lopez with any questions 
 at tramoslo@ucsc.edu or (408)757-2190.\n	\n    \n            \n             
          \n              When: \n                    Tuesday, May 28, 2013 
 - 7:30pm - Thursday, May 30, 2013 - 7:30pm        \n        \n\n\n	\n    \n 
            \n                      \n              Location: \n            
         Nickelodeon Theater        \n              \n                      
 \n              Location: \n                    210 Lincoln Street, Santa 
 Cruz, CA        \n 
 https://www.indybay.org/newsitems/2013/05/28/18737490.php
SUMMARY:Screening: Free Angela and All Political Prisoners
LOCATION:Nickelodeon Theater\n210 Lincoln Street, Santa Cruz, CA
URL:https://www.indybay.org/newsitems/2013/05/28/18737490.php
DTSTART:20130529T023000Z
DTEND:20130529T040000Z
END:VEVENT
END:VCALENDAR
