BEGIN:VCALENDAR
VERSION:2.0
X-WR-CALNAME:www.indybay.org
PRODID:-//indybay/ical// v1.0//EN
BEGIN:VEVENT
UID:Indybay-18737300
SEQUENCE:18841512
CREATED:20130524T031500Z
DESCRIPTION:Honor the Dead, Heal the Wounded, Stop the Wars\nVETERANS SPEAK OUT ON 
 MEMORIAL DAY\n\nThe first Memorial Day was on May 1, 1865. “African 
 Americans invented Memorial Day in Charleston, South Carolina. What you 
 have there is black Americans recently freed from slavery announcing to the 
 world with their flowers, their feet, and their songs what the War had been 
 about. What they basically were creating was the Independence Day of a 
 Second American Revolution.” Over the years, Memorial has come to be 
 remembered on the last Monday of May, a time to honor the more than one 
 million men and women who gave their lives in the wars of the United 
 States. Local members of Veterans for Peace will speak out on the meaning 
 that Memorial Day holds for them.\n\nSunday, May 26, 2013 • 10:30 am to 
 12:30 pm\n\nNiebyl Proctor Marxist Library\n6501 Telegraph Avenue in 
 Oakland • (between Alcatraz and 66th)\nSeating is limited, so plan to 
 come early. We start promptly.\nFREE - but hat will be passed for donations 
 to NPML\n\nSunday Morning at the Marxist Library\nA weekly discussion 
 series inspired by our respect for the work of Karl Marx and our belief 
 that his work will remain as important for the class struggles of the 
 future as they have been for the past. \n 
 https://www.indybay.org/newsitems/2013/05/23/18737300.php
SUMMARY:Veterans Speak Out on Memorial Day
LOCATION:Niebyl Proctor Marxist Library\n6501 Telegraph Avenue in Oakland\n(between 
 Alcatraz and 66th)
URL:https://www.indybay.org/newsitems/2013/05/23/18737300.php
DTSTART:20130526T173000Z
DTEND:20130526T193000Z
END:VEVENT
END:VCALENDAR
