BEGIN:VCALENDAR
VERSION:2.0
X-WR-CALNAME:www.indybay.org
PRODID:-//indybay/ical// v1.0//EN
BEGIN:VEVENT
UID:Indybay-18737066
SEQUENCE:18841194
CREATED:20130519T052000Z
DESCRIPTION:This is sponsored by the San Anselmo Quality of Life Commission, and is 
 moderated by Barbara Thornton, Former Mayor.\n\nAll ages are 
 invited!\n\nJune 4th, Tuesday, 7-8:30 pm, San Anselmo Town Hall. \n\nFree 
 panelist discussion featuring Bea Johnson, author, The Zero Waste Home, and 
 Patty Garbarino, President, Marin Sanitary Service and Marin Recycling 
 Resource and Recovery as panelists. \n\nAdditional information by Nicole 
 Siminoff, Advocate for cloth diapers, Carrie Bachelder, Away Station: 
 Marketplace of ReUse, Gregory Gilmore, Director, Marin Computer Resource 
 Center, Tony Reynolds, Owner, Renew Computers.\n 
 https://www.indybay.org/newsitems/2013/05/18/18737066.php
SUMMARY:Connecting the Green Dots: Moving to Zero Waste
LOCATION:San Anselmo Town Hall
URL:https://www.indybay.org/newsitems/2013/05/18/18737066.php
DTSTART:20130605T020000Z
DTEND:20130605T033000Z
END:VEVENT
END:VCALENDAR
