BEGIN:VCALENDAR
VERSION:2.0
X-WR-CALNAME:www.indybay.org
PRODID:-//indybay/ical// v1.0//EN
BEGIN:VEVENT
UID:Indybay-18736801
SEQUENCE:18840806
CREATED:20130514T212700Z
DESCRIPTION:Join us for this inspiring and informative evening where we’ll show the 
 film “Permaculture: the Growing Edge” and hear from local gardening 
 representatives and experts on how you can tap into local opportunities for 
 growing food.\n\nThe lineup includes Victory Lee, People’s Victory Garden 
 Program and 4th year of the Victory Garden Challenge; Lotta Chan and Alisa 
 Rose, co-chairs of the Landuse and Community Garden Working Group of the 
 Berkeley Climate Action Coalition; Alexa Hauser and Catherine Sutton, 
 Transition Albany, sharing about the Memorial Park Permaculture Landscape 
 project; and Joy Moore, co-founder Farm Fresh Choice and Garden Coordinator 
 for Berkeley Technology Academy.\n\nThe film introduces us to inspiring 
 examples of projects, and includes a visit to David Holmgren’s own 
 homestead, tracking deer with naturalist Jon Young, sheet mulching an 
 inner-city garden with Hunters Point Family, transforming an intersection 
 into a gathering place with City Repair and joining mycologist Paul Stamets 
 as he cleans up an oil spill with mushrooms.\n\nCost:Donations gratefully 
 accepted to support the community work of Transition Berkeley\n\nWheelchair 
 Accessible\n\nEvent Phone:\n510-548-2220 x233\n\nEvent 
 email:\nlinda@transitionberkeley.com\n 
 https://www.indybay.org/newsitems/2013/05/14/18736801.php
SUMMARY:Transition Berkeley Presents: Permaculture Inspiration & Gardening Opportunities
LOCATION:Ecology Center, 2530 San Pablo Ave, Berkeley, Ca, 94702
URL:https://www.indybay.org/newsitems/2013/05/14/18736801.php
DTSTART:20130523T020000Z
DTEND:20130523T040000Z
END:VEVENT
END:VCALENDAR
