BEGIN:VCALENDAR
VERSION:2.0
X-WR-CALNAME:www.indybay.org
PRODID:-//indybay/ical// v1.0//EN
BEGIN:VEVENT
UID:Indybay-18736795
SEQUENCE:18840784
CREATED:20130514T195400Z
DESCRIPTION:Book Sale\n\n  We have recently received dozens of boxes of donated books. 
 also posters, pamphlets, buttons and who knows what else.\nCome early for 
 best selection.\n https://www.indybay.org/newsitems/2013/05/14/18736795.php
SUMMARY:Niebyl-Proctor Marxist Library Book Sale
LOCATION:Niebyl-Proctor \n6501 Telegraph Ave\nOakland, Ca 94609
URL:https://www.indybay.org/newsitems/2013/05/14/18736795.php
DTSTART:20130601T170000Z
DTEND:20130601T210000Z
END:VEVENT
END:VCALENDAR
