BEGIN:VCALENDAR
VERSION:2.0
X-WR-CALNAME:www.indybay.org
PRODID:-//indybay/ical// v1.0//EN
BEGIN:VEVENT
UID:Indybay-18736791
SEQUENCE:18840780
CREATED:20130514T185200Z
DESCRIPTION:Join us for a public examination of Berkeley’s Emergency Mental Health 
 Services and whether Police should even be involved as responders.       
 \n\nTasers, spit hoods, pepper spray, hog-tie and “the Wrap”: Is this 
 what Berkeley means by the term “Mental Health Services” ? Numerous 
 incidents in Berkeley show that the “compassionate care” we thought was 
 being given by mental health care professionals has deteriorated into the 
 systematic use of brute force against those in crisis. \n\nSPEAKERS* VIDEOS 
 CLIPS* WORKSHOP\nUpdates on the People's Investigation into the death of 
 Kayla Moore\n\nFree and Open to the Public\n\nMay 30th 7pm\nEast Bay Media 
 Center\n1939 Addison Street (Btw MLK and Milvia)\nsponsored by Berkeley 
 Copwatch (berkeleycopwatch @yahoo.com)\nCheck us out on Facebook: 
 Justice4kaylamoore\n\n 
 https://www.indybay.org/newsitems/2013/05/14/18736791.php
SUMMARY:Cops or Counselors? The Crisis in Berkeley's Mental Health System
LOCATION:East Bay Media Center 1939 Addison Street (btw MLK and Milvia)
URL:https://www.indybay.org/newsitems/2013/05/14/18736791.php
DTSTART:20130531T020000Z
DTEND:20130531T020000Z
END:VEVENT
END:VCALENDAR
