BEGIN:VCALENDAR
VERSION:2.0
X-WR-CALNAME:www.indybay.org
PRODID:-//indybay/ical// v1.0//EN
BEGIN:VEVENT
UID:Indybay-18736415
SEQUENCE:18840260
CREATED:20130506T202100Z
DESCRIPTION:Cult-film scholar Christian Divine trucks in with his CAR-KINO CULT 
 presentation, a cavalcade of skull-pulverizing clips on the uniquely 
 American phenomenon of the Drive-In Movie. The final frontier of guerrilla 
 showmanship, drive-ins exploited a lurid repertoire of Hollywood actioners 
 and independent grindhouse fare. The activity was ritualized around the 
 automobile, and the romance of expansive viewing under the stars was 
 counter-pointed by violence and copious sex on the super-wide screen (and 
 in the back seats).\n\nRepresentative titles like Billy Jack, Smokey and 
 the Bandit, Wild Angels, Blood Feast, Night Call Nurses, and Destroy All 
 Monsters are organized into a prototypical Saturday-night al fresco 
 experience, compressing years of film- and car-culture into Christian’s 
 wildly entertaining—and obsessively researched—lecture-demo.\n\nFree 
 popcorn, cheap beer, and lots more!!\n 
 https://www.indybay.org/newsitems/2013/05/06/18736415.php
SUMMARY:Christian Divine's Saturday Nite Drive-In Spectacular
LOCATION:OTHER CINEMA @ Artists' Television Access\n992 Valencia Street\nSan 
 Francisco, CA 94110
URL:https://www.indybay.org/newsitems/2013/05/06/18736415.php
DTSTART:20130512T033000Z
DTEND:20130512T060000Z
END:VEVENT
END:VCALENDAR
