BEGIN:VCALENDAR
VERSION:2.0
X-WR-CALNAME:www.indybay.org
PRODID:-//indybay/ical// v1.0//EN
BEGIN:VEVENT
UID:Indybay-18735822
SEQUENCE:18840013
CREATED:20130425T202100Z
DESCRIPTION:Come through to a hellish night of the hottest and raddest poetry at the 6 
 month anniversary Words of Resistance show!\n\nFriday May 10th, 8-10PM, 
 poetry @ 8:30\n\nscheduled poets and open mic.\n\nAfter party 
 TBA.\nFundraising for incarcerated feminists.\n 
 https://www.indybay.org/newsitems/2013/04/25/18735822.php
SUMMARY:Words of Resistance VI: 666 Ways to Start the Revolution
LOCATION:The Holdout, 2313 San Pablo Ave, Oakland, CA. Closest Bart 19th street.
URL:https://www.indybay.org/newsitems/2013/04/25/18735822.php
DTSTART:20130511T030000Z
DTEND:20130511T050000Z
END:VEVENT
END:VCALENDAR
