BEGIN:VCALENDAR
VERSION:2.0
X-WR-CALNAME:www.indybay.org
PRODID:-//indybay/ical// v1.0//EN
BEGIN:VEVENT
UID:Indybay-18735688
SEQUENCE:18839281
CREATED:20130423T174200Z
DESCRIPTION:MCCLA & SFSU Anthropology Dept. Graduate Studies present: For the Health of 
 Our People\n\nFriday, May 24, 2013 / Theatre / $10 General /\n7:00pm Film 
 Screening - 8:00pm Q & A /\n\n\nTaking place in rural Honduras, For the 
 Health of Our People tells the inspiring story of a Garifuna community who 
 worked together to bring healthcare to their people by building the first 
 free hospital in the country.\n\n Told from the heart of members of the 
 community and accompanied by stunning visuals, the film discusses 
 healthcare as a human right and gives recognition to a long forgotten and 
 neglected people who are proud of their rich culture. \n 
 https://www.indybay.org/newsitems/2013/04/23/18735688.php
SUMMARY:MCCLA & SFSU Anthropology Dept. Graduate Studies present: For the Health of Our People
LOCATION:2868 Mission st. San Francisco CA 94110
URL:https://www.indybay.org/newsitems/2013/04/23/18735688.php
DTSTART:20130425T020000Z
DTEND:20130425T050000Z
END:VEVENT
END:VCALENDAR
