BEGIN:VCALENDAR
VERSION:2.0
X-WR-CALNAME:www.indybay.org
PRODID:-//indybay/ical// v1.0//EN
BEGIN:VEVENT
UID:Indybay-18735247
SEQUENCE:18838708
CREATED:20130416T060300Z
DESCRIPTION:Changes for Women:\n the 1960s to the present \nSF OWL Meeting \nSaturday, 
 May 25, 10 AM \nFlood Building, 870 Market St., Rm. 1185 \n(Market near 
 Powell, Powell BART) \n\nWe will talk about the changes in the lives of 
 women in the last five or six decades and remember where we were and how 
 far we have come. What was your life and life for women like then, and what 
 is your life and life for women like now? Wear your flower child clothes 
 and bring photos or memorabilia from back then.\n\nOWL is the only national 
 membership organization to focus exclusively on critical issues facing 
 women as they age. We work together to improve the status and quality of 
 life for midlife and older women through national, state, and local 
 networks. Read more at http://tinyurl.com/85no7vg \n\n(415) 989-4422 \ninfo 
 [at] owlsf.org \nhttp://www.owlsf.org \n 
 https://www.indybay.org/newsitems/2013/04/15/18735247.php
SUMMARY:Changes for Women: the 1960s to the present
LOCATION:Flood Building, 870 Market St., Rm. 1185 \n(Market near Powell, Powell 
 BART)
URL:https://www.indybay.org/newsitems/2013/04/15/18735247.php
DTSTART:20130525T170000Z
DTEND:20130525T190000Z
END:VEVENT
END:VCALENDAR
