BEGIN:VCALENDAR
VERSION:2.0
X-WR-CALNAME:www.indybay.org
PRODID:-//indybay/ical// v1.0//EN
BEGIN:VEVENT
UID:Indybay-18735154
SEQUENCE:18838578
CREATED:20130413T200200Z
DESCRIPTION:On Saturday, April 20, ATA Gallery’s OTHER CINEMA presents its 
 semi-annual Optronica program. Sound artist John Davis patches together a 
 smart stack of oscillators to generate original tracks to three peculiar 
 16mm artifacts: A pair of anomalous educationals on Electromagnetism 
 precedes the world premiere of Craig Baldwin’s double-projection Nth 
 Dimension.\n\nAllison Holt and Jim Haynes’ Signal Mountain is another 
 world premiere, the brilliant edit of their recent SFMOMA performance.\n\nA 
 delicious selection of 3D pieces includes Lillian Schwartz, Slavko 
 Vorkapich, and Kerry Laitala’s latest. PLUS Phil Patiris, DJ Spooky, and 
 TV Sheriff.\n https://www.indybay.org/newsitems/2013/04/13/18735154.php
SUMMARY:Optronica: John Davis + Jim Haynes / Allison Holt's Signal Mountain +
LOCATION:OTHER CINEMA @ Artists' Television Access\n992 Valencia Street\nSan 
 Francisco, CA 94110
URL:https://www.indybay.org/newsitems/2013/04/13/18735154.php
DTSTART:20130421T033000Z
DTEND:20130421T060000Z
END:VEVENT
END:VCALENDAR
