BEGIN:VCALENDAR
VERSION:2.0
X-WR-CALNAME:www.indybay.org
PRODID:-//indybay/ical// v1.0//EN
BEGIN:VEVENT
UID:Indybay-18735058
SEQUENCE:18838435
CREATED:20130411T055100Z
DESCRIPTION:Apologies for the Tuesday posting. The school catalog and online and my 
 receipt all said T not TH.\nWell it is Thursday at 7pm.\nPlease do sign up 
 if you have any interest at all.\nClass needs at least 15 people enrolling 
 to not be cancelled.\n\n 
 https://www.indybay.org/newsitems/2013/04/10/18735058.php
SUMMARY:Arabic Multi-level class at Berkeley Adult School on Thursday
LOCATION:Berkeley Adult School - Room 105\n1701 San Pablo Avenue\nBerkeley 94702  
 (510)644-6130
URL:https://www.indybay.org/newsitems/2013/04/10/18735058.php
DTSTART:20130412T020000Z
DTEND:20130412T040000Z
END:VEVENT
END:VCALENDAR
