BEGIN:VCALENDAR
VERSION:2.0
X-WR-CALNAME:www.indybay.org
PRODID:-//indybay/ical// v1.0//EN
BEGIN:VEVENT
UID:Indybay-18734923
SEQUENCE:18838362
CREATED:20130409T040100Z
DESCRIPTION:DARLING NIKKI April 19, 2013 \nand every 3rd FRIDAY of the month\nSLATE BAR 
 /// 2925 16th Street\n8pm -2am /// $5 cover\n\nThis is our 1 year 
 anniversary! \nWe will have a surprise! \n\nThis month's special theme: Big 
 Hair + Girl Bands! Style yourself accordingly. \n\nSpecial Backdrop by 
 Voula and photo by Cody Williams.\n\nThis month our guests DJs are -- Miss 
 Pop and Justin Credible, and resident DJ DURT!\n\nThis month we benefit Bay 
 Area Girl Rock Camp\nhttp://www.bayareagirlsrockcamp.org/\nBay Area Girls 
 Rock Camp is a nonprofit organization that empowers girls through music, 
 promoting an environment that fosters self-confidence, creativity and 
 teamwork. BAGRC challenges gender stereotypes, encourage collaboration and 
 tolerance among peers, and provides a comfortable space for people of all 
 backgrounds to express themselves. Through music lessons, workshops, group 
 activities and performance, girls acquire skills that help guide them 
 throughout their lives.\n 
 https://www.indybay.org/newsitems/2013/04/08/18734923.php
SUMMARY:Darling Nikki: Benefit for Bay Area Girls Rock Camp
LOCATION:Slate Bar, 2925 16th St., San Francisco, CA 94110
URL:https://www.indybay.org/newsitems/2013/04/08/18734923.php
DTSTART:20130420T030000Z
DTEND:20130420T070000Z
END:VEVENT
END:VCALENDAR
