BEGIN:VCALENDAR
VERSION:2.0
X-WR-CALNAME:www.indybay.org
PRODID:-//indybay/ical// v1.0//EN
BEGIN:VEVENT
UID:Indybay-18734649
SEQUENCE:18837881
CREATED:20130404T041500Z
DESCRIPTION:Meet at Rock Paper Scissors art gallery (2278 Telegraph Ave. Oakland, at 
 23rd St. NE corner) at 6 pm, put on hazmat suits (optional), and hold a 
 vigil/informal teach-in on the subject of Fukushima's effect on our world 
 and possible future consequences, with a focus on health protection from 
 radiation fallout here in California.\n\nWe will be on the street at least 
 until 7, very likely till 7:30, then may visit the closer galleries and 
 have coffee.  More info: 
 \nhttp://fukushimawatch.blogspot.com/\nhttp://fukushima-diary.com/2013/03/analysis-the-sudden-blackout-revealed-the-weakness-of-fukushima-plant-reactor4-has-4-days-to-go/\n 
 https://www.indybay.org/newsitems/2013/04/03/18734649.php
SUMMARY:Friday Night Anti-Nuke Hazmat Protest at the Art Murmur
LOCATION:Meet at Rock Paper Scissors art gallery (2278 Telegraph Ave. Oakland, at 
 23rd St. NE corner) at 6 pm, put on hazmat suits (optional), and hold a 
 vigil/informal teach-in on the subject of Fukushima's effect on our world 
 and possible future consequences, with a focus on health protection from 
 radiation fallout here in California.
URL:https://www.indybay.org/newsitems/2013/04/03/18734649.php
DTSTART:20130406T010000Z
DTEND:20130406T023000Z
END:VEVENT
END:VCALENDAR
