BEGIN:VCALENDAR
VERSION:2.0
X-WR-CALNAME:www.indybay.org
PRODID:-//indybay/ical// v1.0//EN
BEGIN:VEVENT
UID:Indybay-18734560
SEQUENCE:18837743
CREATED:20130401T194800Z
DESCRIPTION:Drones NO More! \n\nOn Friday April 5th, from 5-6PM\njoin Women In Black of 
 Santa Cruz and other peace groups,\nto say to the President of the United 
 States and our government:\n\nDrones NO More! - Ground the Drones!\nSTOP 
 KILLING CHILDREN and OTHER INNOCENT PEOPLE!!\n\nIn Downtown Santa Cruz, at 
 the corner of Cooper St. and Pacific Ave.,\nthe large corner in front of 
 O'Neils Surf Shop\n\nUnder President Obama's watch, and implemented  by the 
 CIA,\nhundreds of innocent children and other adults have been killed and 
 maimed\nby the use of drones (robotic planes) in Pakistan, Afghanistan, 
 Yemen, and Somalia.\n\nJOIN US TO SAY Stop the Drone Program Now!\n\nhelp 
 us hold over 150 individual placards \nwith the names of just some of the 
 children killed,\nor make a 'no-drones' sign to bring along,\nand please 
 wear BLACK if you can\n\nFriday April 5th is also "First Friday" downtown, 
 the night when many stores host art shows by local artists and the Museum 
 of Art and History is open to the public for free.\n\nLet us bring our 
 message to all the folks who will be out and about downtown! 
 \n\n*cosponsored by: CodePink Santa Cruz, People United for Peace of SC, 
 Peace and Freedom Party SC, Resource Center for Nonviolence,........\n\n 
 https://www.indybay.org/newsitems/2013/04/01/18734560.php
SUMMARY:Ground the Drones Rally
LOCATION:In Downtown Santa Cruz, at the corner of Cooper St. and Pacific Ave., the 
 large corner in front of O'Neils Surf Shop
URL:https://www.indybay.org/newsitems/2013/04/01/18734560.php
DTSTART:20130406T000000Z
DTEND:20130406T010000Z
END:VEVENT
END:VCALENDAR
