BEGIN:VCALENDAR
VERSION:2.0
X-WR-CALNAME:www.indybay.org
PRODID:-//indybay/ical// v1.0//EN
BEGIN:VEVENT
UID:Indybay-18734545
SEQUENCE:18837720
CREATED:20130401T053600Z
DESCRIPTION:On Saturday, April 6, ATA Gallery’s flagship screening series, Other 
 Cinema, celebrates the second in our Secret Agents suite. LA Weekly critic 
 Doug Harvey zooms in with a book-launch—in fact a party—to celebrate 
 his anthology of sublimely ridiculous rants and paranoid analyses, 
 'patacritical Interrogation Techniques Anthology, Volume 3.\n\nHis 
 crackpot-genius 'pITA3 compendium gleefully crosses conspiracy theory with 
 avant-garde literature. Doug’s readings address absurd art pranks and 
 mistranslations: Jean Averty’s Ubu Roi, Turkish Star Wars, Benny Lava’s 
 mis-subtitled music videos, a Scientology workprint (!), and Craig 
 Baldwin’s Tribulation 99 (16mm excerpt).\n\nPLUS an inquiry into the 
 “Rock Books” of über-fabulist Richard Shaver, detailing the Alphabet 
 of the Ancients. Free beer.\n 
 https://www.indybay.org/newsitems/2013/03/31/18734545.php
SUMMARY:Art of the Ridiculous: Doug Harvey's 'patacritical Interrogation Techniques
LOCATION:OTHER CINEMA @ Artists' Television Access\n992 Valencia Street\nSan 
 Francisco, CA 94110
URL:https://www.indybay.org/newsitems/2013/03/31/18734545.php
DTSTART:20130407T033000Z
DTEND:20130407T060000Z
END:VEVENT
END:VCALENDAR
