BEGIN:VCALENDAR
VERSION:2.0
X-WR-CALNAME:www.indybay.org
PRODID:-//indybay/ical// v1.0//EN
BEGIN:VEVENT
UID:Indybay-18734459
SEQUENCE:18837605
CREATED:20130330T031400Z
DESCRIPTION:\nFilm evenings begin with optional potluck refreshments & social hour at  
 6:30 pm,\nfollowed by the film at  7:30 pm, followed by optional discussion 
 after the film.\n\nThe World of Modern Child Slavery\nBy  Rageh 
 Omaar\n\nFor a description of this film, see its website shown 
 below.\n\nHumanist Hall is wheelchair accessible around the corner at  411  
 28th  Street\n\n$5 donations are expected.\n\n\n\n 
 https://www.indybay.org/newsitems/2013/03/29/18734459.php
SUMMARY:The World of Modern Child Slavery
LOCATION:Humanist Hall\n390  27th  Street\nuptown Oakland, between Telegraph and 
 Broadway\nhttp://www.HumanistHall.org
URL:https://www.indybay.org/newsitems/2013/03/29/18734459.php
DTSTART:20130404T023000Z
DTEND:20130404T043000Z
END:VEVENT
END:VCALENDAR
