BEGIN:VCALENDAR
VERSION:2.0
X-WR-CALNAME:www.indybay.org
PRODID:-//indybay/ical// v1.0//EN
BEGIN:VEVENT
UID:Indybay-18734418
SEQUENCE:18837546
CREATED:20130329T165700Z
DESCRIPTION:CLOSING PARTY - THURSDAY APRIL 4th - 6-9pm\n\n2781 21st St., San Francisco, 
 CA, 94110\n\n\nhttp://pcrcollective.org/\n\nCome see my latest watercolors 
 and oils depicting the Iconic movements that have shed light in a world 
 where corruption and greed are the main characteristic of our policies and 
 currency.\nAs a Impressionist Xicana artist, daughter of two migrants from 
 Michoacan Mexico many injustices happen before my eyes. The only thing I 
 can do is document and express in a series of paintings the oppression that 
 is felt by the whole globe, though we are many we are all connected. This 
 series will illustrate the parallel between speaking out in hopes of 
 healing and the changes that must be made to free our souls from the 
 deception and de-humanisation that surrounds us. Free your Mind! \n 
 https://www.indybay.org/newsitems/2013/03/29/18734418.php
SUMMARY:Mutiny Radio Gallery Presents: Activism Art By Carina Lomeli
LOCATION:2781 21st St., San Francisco, CA, 94110
URL:https://www.indybay.org/newsitems/2013/03/29/18734418.php
DTSTART:20130405T010000Z
DTEND:20130405T100000Z
END:VEVENT
END:VCALENDAR
