BEGIN:VCALENDAR
VERSION:2.0
X-WR-CALNAME:www.indybay.org
PRODID:-//indybay/ical// v1.0//EN
BEGIN:VEVENT
UID:Indybay-18734396
SEQUENCE:18837494
CREATED:20130329T004300Z
DESCRIPTION: Suds, Snacks, & Socialism at the Starry Plough\n3101 Shattuck Avenue at 
 Prince Street\n2 blocks from Ashby BART in Berkeley\n\nThe Alameda County 
 Peace and Freedom Party and Movement presents\n\nHumor and Socialism\n\nOur 
 forum topic this month will be humor and socialism.  This will partly be 
 open mike when you can share your favorite political jokes with others.  
 Also, take on a role in irreverent scenes from a leftist play.  Tell others 
 to come watch you be a star at the Starry Plough\n\nSaturday, April 6, 2013 
 • 2pm-4:30pm\nAt the Starry Plough Pub\n3101 Shattuck Ave, at Prince St 
 in Berkeley\n\nFREE!   (But please buy food & drink at the Pub.)   
 FREE!\n\nThis is part of our on-going Socialist Forum Series on the first 
 Saturday of every month from 2-4:30 pm. The featured panel will start 
 promptly at 2:30 pm and the forum will end by 4:30 pm, but folks can stay 
 and talk as long as you like. \n\nFor info, contact: Gene Ruyle at 
 510-428-1578 or cuyleruyle@mac.com\n\n\nThe Peace and Freedom Party is 
 committed to socialism, democracy, ecology, feminism and racial 
 equality.\nwww.peaceandfreedom.org	 \n\n 
 https://www.indybay.org/newsitems/2013/03/28/18734396.php
SUMMARY:Humor and Socialism
LOCATION:At the Starry Plough Pub\n3101 Shattuck Ave, at Prince St in Berkeley
URL:https://www.indybay.org/newsitems/2013/03/28/18734396.php
DTSTART:20130406T210000Z
DTEND:20130406T233000Z
END:VEVENT
END:VCALENDAR
