BEGIN:VCALENDAR
VERSION:2.0
X-WR-CALNAME:www.indybay.org
PRODID:-//indybay/ical// v1.0//EN
BEGIN:VEVENT
UID:Indybay-18734365
SEQUENCE:18837432
CREATED:20130328T172700Z
DESCRIPTION:\n\nThe Aboriginal Nations Oppose Expansion of Canada’s Tar 
 Sands\n\nShell Canada is planning to expand its Jackpine tar sands mining 
 operations, but several Aboriginal Nations who live there fiercely protest 
 these plans. Steve Curwood hears why from Chelsea Flook, Executive Director 
 of the Sierra Club Prairie Chapter.\nSource: First Nation Challenges 
 Expansion of Canada’s Tar Sands\n\n\nBill McKibben & John 
 HofmeisterCarbon Math \n\nActivist Bill McKibben and former president of 
 Shell Oil Company John Hofmeister discuss the current state of energy and 
 the technology. While both McKibben and Hofmeister agree that the world 
 needs better energy alternatives, they disagree on when the needed changes 
 will happen.\n\nBill McKibben is the founder of 350.org and author of 
 Eaarth: Making a Life on a Tough New Planet.  John Hofmeister is CEO of 
 Citizens for Affordable Energy and Former President, Shell Oil 
 Company.\nSource: Carbon Math\n\n\nDavid BlackwellTapping Volcanoes for 
 Energy\n\nScientists are exploring technologies to harness the power of 
 volcanoes for geothermal energy.  David Blackwell, an earth sciences 
 professor at Southern Methodist University, tells Steve Curwood about 
 volcano energy.\nSource: Tapping Volcanoes for Energy\n\nDownload or Play 
 Canada's Tar Sands & Carbon MathDownload or Play Carbon Math Part 2Download 
 or Play Carbon Math Part 3Download or Play Carbon Math Part 4 & Volcano 
 Energy\n\nMusic includes John Lennon - Imagine, Green Day - 21 Guns, Harry 
 Truman 1948, Capitol Steps - Al-Jazeera, Gil Scott-Heron - The Revolution 
 Will Not Be Televised, David Rovics - Operation Iraqi Liberation, John 
 Prine - Your Flag Decal Won't Get You Into Heaven Anymore, Celine Dion - 
 Titanic, Carly Simon - You're So Vain, Herb Alpert - Bittersweet Samba, 
 Louis Armstrong -  Heebie Jeebies\nGreat Speeches and Interviews' Past 
 Programs\n\n https://www.indybay.org/newsitems/2013/03/28/18734365.php
SUMMARY:Carbon Math
LOCATION:Stream or download at http://greatspeechesandinterviews.blogspot.com/ 
 \n\nBroadcast at Access Sacramento at 
 http://www.live365.com/cgi-bin/mini.cgi?station_name=accesssacramento&site=pro&tm=6524\n
URL:https://www.indybay.org/newsitems/2013/03/28/18734365.php
DTSTART:20130401T010000Z
DTEND:20130401T030000Z
END:VEVENT
END:VCALENDAR
