BEGIN:VCALENDAR
VERSION:2.0
X-WR-CALNAME:www.indybay.org
PRODID:-//indybay/ical// v1.0//EN
BEGIN:VEVENT
UID:Indybay-18734341
SEQUENCE:18837756
CREATED:20130328T004400Z
DESCRIPTION:After marrying Mathieu, Anna (of Polish origin) inherited a name which has 
 historical meaning. An Armenian name with Turkish intonations which 
 permitted Garabed, Mathew's grandfather, to escape the 1915 genocide. For 
 their honeymoon they went to Turkey and traced the footsteps of Garabed to 
 learn more about Mathieu's Armenian origins.\n\nA road trip across the 
 country mixing Animation, investigative film and historic documentary to 
 report what the Turks think about the 1915 tragedy... A film about Armenian 
 Genocide and Turkish denial\n\nFilmmaker Mathieu Zeitindjioglou will be 
 present at the screening to discuss and answer questions about the 
 film.\n\nAbout the Filmmaker:\nBorn in Versailles, France, Mathieu 
 Zeitindjioglou has won recognition and several festival awards for his film 
 shorts including The Man Who Was Not Hungry, Tell Me About Love, The 
 Philanthropist and the Farm.\n\nMathieu’s Son of the Olive Merchant is 
 the culmination of his artistic approach and a way to pay tribute to his 
 Armenian grandfather and his roots.\n\nView the trailer here 
 http://www.youtube.com/watch?feature=player_embedded&v=hhEwENltQlk\n\n\nSuggested 
 Donation: $10 (no one turned away for lack of funds)\n\nThis event is 
 sponsored by San Jose Peace and Justice Center \n 
 https://www.indybay.org/newsitems/2013/03/27/18734341.php
SUMMARY:Film about Armenian Genocide "Son of the Olive Merchant"
LOCATION:San Jose Peace and Justice Center\n48 South 7th Street, Suite 101\nSan 
 Jose, CA 95112
URL:https://www.indybay.org/newsitems/2013/03/27/18734341.php
DTSTART:20130412T020000Z
DTEND:20130412T040000Z
END:VEVENT
END:VCALENDAR
