BEGIN:VCALENDAR
VERSION:2.0
X-WR-CALNAME:www.indybay.org
PRODID:-//indybay/ical// v1.0//EN
BEGIN:VEVENT
UID:Indybay-18734340
SEQUENCE:18837445
CREATED:20130328T002300Z
DESCRIPTION:Reception To Follow\n\nPlease join San José Councilmember Xavier Campos 
 and Assembly Speaker Pro Tempore Nora Campos in raising the United Farm 
 Worker’s flag in honor of the life and achievements of César E. 
 Chávez.\n\nFor more information please contact the District 5 office at 
 408.535.4905 or at 
 District5@sanjoseca.gov.\n\nhttp://www.asmdc.org/members/a27/pdf/ChavezFlag2013.pdf\n\nThis 
 event is sponsored by District Office of Assembly Speaker pro Tempore Nora 
 Campos \n https://www.indybay.org/newsitems/2013/03/27/18734340.php
SUMMARY:César E. Chávez Day Ceremonial Flag Raising
LOCATION:City Hall Plaza\n200 E. Santa Clara St\nSan Jose, CA 
URL:https://www.indybay.org/newsitems/2013/03/27/18734340.php
DTSTART:20130329T010000Z
DTEND:20130329T020000Z
END:VEVENT
END:VCALENDAR
