BEGIN:VCALENDAR
VERSION:2.0
X-WR-CALNAME:www.indybay.org
PRODID:-//indybay/ical// v1.0//EN
BEGIN:VEVENT
UID:Indybay-18734319
SEQUENCE:18837381
CREATED:20130327T155900Z
DESCRIPTION:Still only 3 of the 113 former hotel workers rehired! Protests 
 continue!\n\nhttp://www.laplayahotelunfair.org/ 
 \nhttp://www.unitehere483.org/ \n\n 
 https://www.indybay.org/newsitems/2013/03/27/18734319.php
SUMMARY:Rally: Boycott La Playa Carmel
LOCATION:La Playa Carmel\nCamino Real & 8th Ave, Carmel, CA
URL:https://www.indybay.org/newsitems/2013/03/27/18734319.php
DTSTART:20130424T000000Z
DTEND:20130424T010000Z
END:VEVENT
END:VCALENDAR
