BEGIN:VCALENDAR
VERSION:2.0
X-WR-CALNAME:www.indybay.org
PRODID:-//indybay/ical// v1.0//EN
BEGIN:VEVENT
UID:Indybay-18734051
SEQUENCE:18837007
CREATED:20130322T130100Z
DESCRIPTION:Bruce Neuburger will present his new book 'Lettuce Wars: Ten years of work 
 and struggle in the fields of California' (Monthly Review Press, 2013). A 
 group discussion will end his talk, and copies of 'Lettuce Wars' will be 
 available. Our talks are free and open to the public. If you wish to 
 support the Marxist School’s endeavors, you can make a safe and 
 tax-deductible donation by PayPal from our website: www.marxistschool.org 
 \n\n https://www.indybay.org/newsitems/2013/03/22/18734051.php
SUMMARY:Talk on 'Lettuce Wars: Ten years of work and struggle in the fields of California'
LOCATION:Sol Collective, 2574 21st Street, Sacramento, CA (1 block south of 
 Broadway) 
URL:https://www.indybay.org/newsitems/2013/03/22/18734051.php
DTSTART:20130419T020000Z
DTEND:20130419T040000Z
END:VEVENT
END:VCALENDAR
