BEGIN:VCALENDAR
VERSION:2.0
X-WR-CALNAME:www.indybay.org
PRODID:-//indybay/ical// v1.0//EN
BEGIN:VEVENT
UID:Indybay-18733865
SEQUENCE:18836753
CREATED:20130319T190100Z
DESCRIPTION:Bubbles on Fire Burlesque is proud to present REEFER MADNESS on 4/20\n by 
 Candy Pie & Jitterbug Burnie of Swing U\nA 16 hour Mini-Festival\nEarly & 
 Late Burlesque Shows at 8:30PM & 10PM\nFull of Entertainment, Dancing, 
 Dinner, Drinks,\nClasses, Contests, Live Music, Raffle Prizes, Shopping 
 to\nCelebrate the FREEDOM of Smoking MAD REEFER!\n\nBubbles On Fire 
 Burlesque Show - Featuring Solo Artists and Group Acts\n*DOTTIE 
 LUX*\n*Alexa Von Kickinface\n*Hunny Bunny\n*Lynx The Animator\n*Mojo De 
 Ville\n*Shakey Gibson\n*Trixie Fou Laurent\n*Pandorra's Boxxx* the Group: 
 *Candy Pie* *Chardonnay Sweet* *Harlow Sin Clare* *Ruby Cosmic* *Valhalla 
 Voom\nMCs: Patina de Copper & A. Randy Johnson\nKitten: Red Delicious\nLive 
 Swing Band:  Emily Anne Swing Band\nTickets\nPre-Sale $15 for both shows or 
 $10 for 10PM show only \nNight of Show in Era Costume $15 / Night of Show 
 in Street Wear $20\nSwing Dance/All Day Passes and Vendors tickets click 
 HERE\nVendors:\nCandy Pie & Trixie Fou Laurent's Sexy Fashions & 
 Accessories\nThe Pastie Guy, Randy Johnson\nTrinityStarr's Custom Made Hula 
 Hoops and LED Hoops\nAnd Much, Much More\nVenue: The Ballroom in The 
 Historic Whitcomb Hotel\nWorkshop Teachers:\nCandy Pie, 
 Burlesque\nTrinityStarr, Hoop Dance\nJitterbug, Lindy Hop & 
 more!\nSchedule: \n9:30 AM - Doors Open - -Buy your early entry all-day 
 pass for --Vintage Clothing Sale \n\nDANCE WORKSHOPS AND DINING\n10:00-11 
 AM Balboa Swing\n11:15 AM-12:15 PM Balboa Swing\n12:30-1:30 PM Shag 
 Workshop\n1:30-2:30 PM you choose: \na. LUNCH &/or \nb. Hula Hoop Dance 
 Workshop\n2:30-3:30 PM Shag Workshop\n3:30-4:30 PM Madness Lindy Bomb the 
 street FREE dancing at just before and on through 4:20pm\n4:30-5:30 PM 
 Lindy Workshop\n5:30-6:30 PM Lindy Workshop\n6:30-7 PM Burlesque 
 Workshop\n7PM Basic Lesson (no partner & no experience needed)\n7:15PM 
 Dinner Served \n7:30PM Movie clips on Swing Dancing Star\n7:45 PM 
 Entertaining contest: Lindy Jack & Jill \n(No partner needed. Individuals 
 compete w/ strangers in a mad contest and then switch to other strangers) 
 Warm up included just before contest.\nSHOWS AND BAND\n8:30 PM Early Show: 
 Bubbles On Fire Burlesque & Vaudeville Show w/ different performances from 
 late show\n9 PM Emily Anne Swing Band\n10 PM Late Show: Bubbles On Fire 
 Burlesque & Vaudeville Show w/ different performances from early 
 show\n10:30 PM Thirty Second Showcase w/Any-Swing-Goes\n10:35 PM Emily Anne 
 Swing Band plays again\n11:30 PM -1:30 AM late night Dancing to DJ only $5 
 (after show & band deal)\nDisclaimer Notice: Schedule, performers and all 
 other info is subject to change at a moment's notice.\n 
 https://www.indybay.org/newsitems/2013/03/19/18733865.php
SUMMARY:420 Reefer Madness Swing Dance Fest w/ Vaudeville Burlesque Show & Vintage Shop 'n' Hop
LOCATION:the Historic Hotel Whitcomb\n1231 Market Street, San Francisco, CA 94103
URL:https://www.indybay.org/newsitems/2013/03/19/18733865.php
DTSTART:20130420T163000Z
DTEND:20130421T163000Z
END:VEVENT
END:VCALENDAR
