BEGIN:VCALENDAR
VERSION:2.0
X-WR-CALNAME:www.indybay.org
PRODID:-//indybay/ical// v1.0//EN
BEGIN:VEVENT
UID:Indybay-18733776
SEQUENCE:18836611
CREATED:20130317T175900Z
DESCRIPTION:You did it! Join fellow Oakland Veg Week pledgees to celebrate your week of 
 healthy and humane eating at our Veg Week celebration party! We will enjoy 
 delicious plant-strong foods. There will be\n\nsamples from vegetarian 
 businesses and the organizers of Oakland Veg Week will answer your 
 questions about vegetarian eating.\n 
 https://www.indybay.org/newsitems/2013/03/17/18733776.php
SUMMARY:Oakland Veg Week Grand Finale Celebration
LOCATION:Lake Merritt Sailboat House, 568 Bellevue Ave., Oakland, CA 94610 
URL:https://www.indybay.org/newsitems/2013/03/17/18733776.php
DTSTART:20130428T080000Z
DTEND:20130428T100000Z
END:VEVENT
END:VCALENDAR
