BEGIN:VCALENDAR
VERSION:2.0
X-WR-CALNAME:www.indybay.org
PRODID:-//indybay/ical// v1.0//EN
BEGIN:VEVENT
UID:Indybay-18733346
SEQUENCE:18836009
CREATED:20130309T171100Z
DESCRIPTION:The Art of Protest: 1960s-1970s\n\nTwenty-six original silk screen poster 
 prints documenting campus social protest movements\n\nReception & Opening 
 Program\nat the Peace Resource Center\nSunday, March 10, 2013 at 6 
 pm\n\nActivists in the student strikes at California public universities, 
 the Civil Rights Movement, and labor struggles will recount some history of 
 political posters, and the challenges of getting the message out before the 
 age of desktop computing and the Internet.\n\nSharat G. Lin, President, San 
 José Peace and Justice Center\n\nFred Hirsch, Member, Executive Board of 
 the South Bay Labor Council\n\nExhibit on Display at the Peace Resource 
 Center\nMarch 4 – April 13, 2013\nHours: Wed and Sat, 1:00–5:30 pm, and 
 during scheduled events\n\nFree and open to the public (donations 
 welcomed)\n\nCo-sponsored by the San José Peace and Justice Center\n 
 https://www.indybay.org/newsitems/2013/03/09/18733346.php
SUMMARY:The Art of Protest
LOCATION:Peace Resource Center\n1364 Fremont Blvd.\nSeaside, CA 93955
URL:https://www.indybay.org/newsitems/2013/03/09/18733346.php
DTSTART:20130311T010000Z
DTEND:20130311T030000Z
END:VEVENT
END:VCALENDAR
